BEGIN:VCALENDAR
VERSION:2.0
PRODID:-//Bertrand Parse - Artiste Graffeur - ECPv6.15.13//NONSGML v1.0//EN
CALSCALE:GREGORIAN
METHOD:PUBLISH
X-WR-CALNAME:Bertrand Parse - Artiste Graffeur
X-ORIGINAL-URL:https://www.byparse.fr
X-WR-CALDESC:Évènements pour Bertrand Parse - Artiste Graffeur
REFRESH-INTERVAL;VALUE=DURATION:PT1H
X-Robots-Tag:noindex
X-PUBLISHED-TTL:PT1H
BEGIN:VTIMEZONE
TZID:Europe/Paris
BEGIN:DAYLIGHT
TZOFFSETFROM:+0100
TZOFFSETTO:+0200
TZNAME:CEST
DTSTART:20180325T010000
END:DAYLIGHT
BEGIN:STANDARD
TZOFFSETFROM:+0200
TZOFFSETTO:+0100
TZNAME:CET
DTSTART:20181028T010000
END:STANDARD
BEGIN:DAYLIGHT
TZOFFSETFROM:+0100
TZOFFSETTO:+0200
TZNAME:CEST
DTSTART:20190331T010000
END:DAYLIGHT
BEGIN:STANDARD
TZOFFSETFROM:+0200
TZOFFSETTO:+0100
TZNAME:CET
DTSTART:20191027T010000
END:STANDARD
BEGIN:DAYLIGHT
TZOFFSETFROM:+0100
TZOFFSETTO:+0200
TZNAME:CEST
DTSTART:20200329T010000
END:DAYLIGHT
BEGIN:STANDARD
TZOFFSETFROM:+0200
TZOFFSETTO:+0100
TZNAME:CET
DTSTART:20201025T010000
END:STANDARD
BEGIN:DAYLIGHT
TZOFFSETFROM:+0100
TZOFFSETTO:+0200
TZNAME:CEST
DTSTART:20210328T010000
END:DAYLIGHT
BEGIN:STANDARD
TZOFFSETFROM:+0200
TZOFFSETTO:+0100
TZNAME:CET
DTSTART:20211031T010000
END:STANDARD
BEGIN:DAYLIGHT
TZOFFSETFROM:+0100
TZOFFSETTO:+0200
TZNAME:CEST
DTSTART:20220327T010000
END:DAYLIGHT
BEGIN:STANDARD
TZOFFSETFROM:+0200
TZOFFSETTO:+0100
TZNAME:CET
DTSTART:20221030T010000
END:STANDARD
BEGIN:DAYLIGHT
TZOFFSETFROM:+0100
TZOFFSETTO:+0200
TZNAME:CEST
DTSTART:20230326T010000
END:DAYLIGHT
BEGIN:STANDARD
TZOFFSETFROM:+0200
TZOFFSETTO:+0100
TZNAME:CET
DTSTART:20231029T010000
END:STANDARD
BEGIN:DAYLIGHT
TZOFFSETFROM:+0100
TZOFFSETTO:+0200
TZNAME:CEST
DTSTART:20240331T010000
END:DAYLIGHT
BEGIN:STANDARD
TZOFFSETFROM:+0200
TZOFFSETTO:+0100
TZNAME:CET
DTSTART:20241027T010000
END:STANDARD
BEGIN:DAYLIGHT
TZOFFSETFROM:+0100
TZOFFSETTO:+0200
TZNAME:CEST
DTSTART:20250330T010000
END:DAYLIGHT
BEGIN:STANDARD
TZOFFSETFROM:+0200
TZOFFSETTO:+0100
TZNAME:CET
DTSTART:20251026T010000
END:STANDARD
END:VTIMEZONE
BEGIN:VEVENT
DTSTART;VALUE=DATE:20240115
DTEND;VALUE=DATE:20240306
DTSTAMP:20260420T123243
CREATED:20240108T083047Z
LAST-MODIFIED:20250302T093932Z
UID:8337-1705276800-1709683199@www.byparse.fr
SUMMARY:Grande fresque - Faculté des Sciences - Jean Perrin - Lens
DESCRIPTION:Grande fresque à Lens en début 2024 à la Faculté des Sciences Jean Perrin à Lens. Venez à la rencontre de Bertrand Parse sur rendez-vous.
URL:https://www.byparse.fr/event/grande-fresque-faculte-des-sciences-jean-perrin-lens/
LOCATION:faculté des sciences\, Université des Sciences Jean Perrin\, Lens\, 62300\, France
ATTACH;FMTTYPE=image/jpeg:https://www.byparse.fr/wp-content/uploads/2024/01/BERTRAND-PARSE-GRAFFEUR-2024.jpg
ORGANIZER;CN="Parse":MAILTO:bebercanz@gmail.com
END:VEVENT
BEGIN:VEVENT
DTSTART;TZID=Europe/Paris:20210605T120000
DTEND;TZID=Europe/Paris:20210606T190000
DTSTAMP:20260420T123243
CREATED:20210524T015102Z
LAST-MODIFIED:20250302T093635Z
UID:6800-1622894400-1623006000@www.byparse.fr
SUMMARY:Lille Style Busters #1
DESCRIPTION:Notre festival Style Busters se déploie à Lille pour une édition spéciale en ligne afin que tout le monde puisse voir le Live sans aucune restriction de visiteurs.\nRetrouvez des artistes en action\, en interview et en couleurs sur tout le week-end!
URL:https://www.byparse.fr/event/lille-style-busters-1/
LOCATION:Lille\, Lille\, Lille\, 59000
ATTACH;FMTTYPE=image/jpeg:https://www.byparse.fr/wp-content/uploads/2021/05/6800_image_189944832_1718226568368713_2459190746106785578_n.jpg
ORGANIZER;CN="RED BRICKS":MAILTO:bertrand@red-bricks.fr
END:VEVENT
BEGIN:VEVENT
DTSTART;TZID=Europe/Paris:20190615T120000
DTEND;TZID=Europe/Paris:20190616T190000
DTSTAMP:20260420T123243
CREATED:20190610T183408Z
LAST-MODIFIED:20190610T183408Z
UID:5466-1560600000-1560711600@www.byparse.fr
SUMMARY:Lens Style Busters #7
DESCRIPTION:Les 15 et 16 Juin la convention de graffiti Lens Style Busters 7 en sera à se septième édition. Rendez-vous au rond point Bollaert pour rencontrer : \nAndrew Wallas – Bandidos Bomb Junkiz – PARIS\nBerthet One – Les Lascars – Bandidos – Paris\nCyber Bandidos RB – Béthune\nErnest – illm CV Final Flash – Paris\nFast – 156 UVTPK BANDIDOS – Paris\nGERZ – OMT TER – Paris\nHoter – OG crew – Roubaix\nMax Solca – Malmö\nMomies – Pow – Montpellier\nMorne – DMJC crew – Paris\nParse – Red Bandidos – LENS\nPyrate – TPA KMF – Nîmes\nRödahund – Malmö\nSamione – KOS – Lille\nSemor the mad one – COLOGNE\nSer – Tmd – Reims\nTWONE – Montpellier\nVision – Oc – Paris\nWuste – Namur\nYone – WELSCH V13 – Paris \nEt bien d’autres graffeurs qui seront disponible pour le Lens Style Busters 7. Vous pourrez les voir peindre en direct et observer de surprenantes réalisations à la bombe de peinture. L’événement dispose d’une entrée gratuite et se déroulera les journées entières des 15 et 16 juin 2019. \nLe Lens Style Busters 7 est un événement qui pour ses sept ans continue à promouvoir le graffiti local\, national et international. L’idée est de créer une rencontre entre la population locale et des artistes graffeurs qui la plupart du temps ne se connaissent pas entre eux. C’est donc aussi une rencontre entre graffeurs. Chaque artiste apporte sa culture au sein de l’événement et la retranscrit à l’intérieur de son œuvre. Aucune direction artistique n’est imposée\, ce qui laisse aux graffeurs du Lens Style Busters 7 une liberté d’expression totale dans un événement très riche et hétérogène.\nNe manquez pas le Lens Style Busters 7\, en plus nous sommes situés à côté du spot de la sixième édition\, le pont Césearine\, sous lequel vous pourrez admirer des fresques d’artistes du monde entier.\nPour plus d’informations quotidiennes sur l’événement\, vous pouvez vous rendre sur la page facebook du Lens Style Busters 7. Nous vous donnons rendez-vous à partir de midi ce samedi 15 juin 2019 au parc du square Chochoy.
URL:https://www.byparse.fr/event/lens-style-busters-7/
LOCATION:Square Chochoy\, 42 Rue Edouard Bollaert\, Lens\, PAS DE CALAIS\, 62300\, France
ATTACH;FMTTYPE=image/jpeg:https://www.byparse.fr/wp-content/uploads/2019/06/FLYER-LSB7-scaled.jpg
ORGANIZER;CN="RED BRICKS":MAILTO:bertrand@red-bricks.fr
END:VEVENT
END:VCALENDAR